BEGIN:VCALENDAR
VERSION:2.0
PRODID:-//STADTKULTUR HAMBURG//kultur-hamburg.de///DE
CALSCALE:GREGORIAN
BEGIN:VEVENT
X-WR-TIMEZONE:Europe/Berlin
DTSTART:20190923T103000
DTEND:20190923T120000
LOCATION:Goldbekhaus \, Moorfuhrtweg 9 \, 22301 Hamburg
DTSTAMP:20260424T083549
SUMMARY:De Stilte: Flying Cow
URL;VALUE=URI:https://www.kultur-hamburg.de/veranstaltungen/de-stilte-flying-cow-453175
DESCRIPTION:Kühe können fliegen! Weltklassechoreographie aus den Niederlanden
UID:dfa2b6273153f4ed509db6bb2eb9e8e3@kulturhamburg
END:VEVENT
END:VCALENDAR