BEGIN:VCALENDAR
VERSION:2.0
PRODID:-//STADTKULTUR HAMBURG//kultur-hamburg.de///DE
CALSCALE:GREGORIAN
BEGIN:VEVENT
X-WR-TIMEZONE:Europe/Berlin
DTSTART:20190824T140000
DTEND:20190824T160000
LOCATION:Stellwerk \, Hannoversche Straße 85 \, 21079 Hamburg
DTSTAMP:20260420T073826
SUMMARY:Sommer im Park auf der Harburger Freilichtbühne 2019
URL;VALUE=URI:https://www.kultur-hamburg.de/veranstaltungen/sommer-im-park-auf-der-harburger-freilichtbuehne-2019-453340
DESCRIPTION:
UID:ebf6cf7f118d4a9b90cc70bc9a9d424f@kulturhamburg
END:VEVENT
END:VCALENDAR