BEGIN:VCALENDAR
VERSION:2.0
PRODID:-//STADTKULTUR HAMBURG//kultur-hamburg.de///DE
CALSCALE:GREGORIAN
BEGIN:VEVENT
X-WR-TIMEZONE:Europe/Berlin
DTSTART:20190907T190000
DTEND:20190907T210000
LOCATION:Stellwerk \, Hannoversche Straße 85 \, 21079 Hamburg
DTSTAMP:20260423T070232
SUMMARY:Rocknight at Stellwerk
URL;VALUE=URI:https://www.kultur-hamburg.de/veranstaltungen/rocknight-at-stellwerk-453341
DESCRIPTION:
UID:295fb451f73a600080c005dcaced6d0a@kulturhamburg
END:VEVENT
END:VCALENDAR