BEGIN:VCALENDAR
VERSION:2.0
PRODID:-//STADTKULTUR HAMBURG//kultur-hamburg.de///DE
CALSCALE:GREGORIAN
BEGIN:VEVENT
X-WR-TIMEZONE:Europe/Berlin
DTSTART:20190922T150000
DTEND:20190922T155000
LOCATION:Goldbekhaus \, Moorfuhrtweg 9 \,  
DTSTAMP:20260424T065359
SUMMARY:Flying Cow
URL;VALUE=URI:https://www.kultur-hamburg.de/veranstaltungen/flying-cow-453543
DESCRIPTION:2013 haben wir bereits »Flying Cow« eingeladen. Eigentlich hätten wir das jedes Jahr machen sollen. Aber jetzt ist es endlich wieder soweit. Die nächste Kindergeneration kann sich auf das Beste freuen, was es gibt: Tanztheater von De Stilte.
UID:3b5051499c729d53fbfc83972f24045b@kulturhamburg
END:VEVENT
END:VCALENDAR