BEGIN:VCALENDAR
VERSION:2.0
PRODID:-//STADTKULTUR HAMBURG//kultur-hamburg.de///DE
CALSCALE:GREGORIAN
BEGIN:VEVENT
X-WR-TIMEZONE:Europe/Berlin
DTSTART:20190922T170000
DTEND:20190922T175000
LOCATION:Goldbekhaus \, Moorfuhrtweg 9 \,  
DTSTAMP:20260424T065238
SUMMARY:Flying Cow
URL;VALUE=URI:https://www.kultur-hamburg.de/veranstaltungen/flying-cow-453544
DESCRIPTION:2013 haben wir bereits »Flying Cow« eingeladen. Eigentlich hätten wir das jedes Jahr machen sollen. Aber jetzt ist es endlich wieder soweit. Die nächste Kindergeneration kann sich auf das Beste freuen, was es gibt: Tanztheater von De Stilte.
UID:c06f58247b85d0725c081357e4920822@kulturhamburg
END:VEVENT
END:VCALENDAR