BEGIN:VCALENDAR
VERSION:2.0
PRODID:-//STADTKULTUR HAMBURG//kultur-hamburg.de///DE
CALSCALE:GREGORIAN
BEGIN:VEVENT
X-WR-TIMEZONE:Europe/Berlin
DTSTART:20190923T103000
DTEND:20190923T112000
LOCATION:Goldbekhaus \, Moorfuhrtweg 9 \,  
DTSTAMP:20260424T083438
SUMMARY:Flying Cow
URL;VALUE=URI:https://www.kultur-hamburg.de/veranstaltungen/flying-cow-453545
DESCRIPTION:2013 haben wir bereits »Flying Cow« eingeladen. Eigentlich hätten wir das jedes Jahr machen sollen. Aber jetzt ist es endlich wieder soweit. Die nächste Kindergeneration kann sich auf das Beste freuen, was es gibt: Tanztheater von De Stilte.
UID:463ae42c53e03e6b46d8a677a8853ce5@kulturhamburg
END:VEVENT
END:VCALENDAR