BEGIN:VCALENDAR
VERSION:2.0
PRODID:-//STADTKULTUR HAMBURG//kultur-hamburg.de///DE
CALSCALE:GREGORIAN
BEGIN:VEVENT
X-WR-TIMEZONE:Europe/Berlin
DTSTART:20190822T190000
DTEND:20190822T230000
LOCATION:Kinderbuchhaus im Altonaer Museum \, Museumstraße 23 \, 22765 Hamburg
DTSTAMP:20260420T042743
SUMMARY:Vernissage: Ganz neu! Der Hamburger Bilderbuchpreis
URL;VALUE=URI:https://www.kultur-hamburg.de/veranstaltungen/vernissage-ganz-neu!-der-hamburger-bilderbuchpreis-453688
DESCRIPTION:Das Kinderbuchhaus lädt ein zur Vernissage von
Ganz neu! Der Hamburger Bilderbuchpreis – die Shortlist

mit musikalischer Begleitung von Bernd Begemann
UID:46198b53a45cc7d65baa03f01f866866@kulturhamburg
END:VEVENT
END:VCALENDAR