BEGIN:VCALENDAR
VERSION:2.0
PRODID:-//STADTKULTUR HAMBURG//kultur-hamburg.de///DE
CALSCALE:GREGORIAN
BEGIN:VEVENT
X-WR-TIMEZONE:Europe/Berlin
DTSTART:20190814T200000
DTEND:20190814T220000
LOCATION:Kulturcafé Komm du \, Buxtehuder Str. 13 \, 21073 Hamburg
DTSTAMP:20260421T105315
SUMMARY:FOX & BONES | Folk-Pop von den modernen Bonnie & Clyde
URL;VALUE=URI:https://www.kultur-hamburg.de/veranstaltungen/fox-&-bones--folk-pop-von-den-modernen-bonnie-&-clyde-453730
DESCRIPTION:Pressefoto: © by Amandala Photography
?????????????????????????????
Das Komm du lädt ein zu einem Ko...
UID:4fd3a0a2cabfd4014e0a1e4e8dc50937@kulturhamburg
END:VEVENT
END:VCALENDAR