BEGIN:VCALENDAR
VERSION:2.0
PRODID:-//STADTKULTUR HAMBURG//kultur-hamburg.de///DE
CALSCALE:GREGORIAN
BEGIN:VEVENT
X-WR-TIMEZONE:Europe/Berlin
DTSTART:20190816T200000
DTEND:20190816T220000
LOCATION:Kulturcafé Komm du \, Buxtehuder Str. 13 \, 21073 Hamburg
DTSTAMP:20260419T182205
SUMMARY:JADE |Funky Soulful Jazz Grooves and a Tribute to Amy Winehouse
URL;VALUE=URI:https://www.kultur-hamburg.de/veranstaltungen/jade-funky-soulful-jazz-grooves-and-a-tribute-to-amy-winehouse-453731
DESCRIPTION:Pressefoto: © by Anja Menzel
?????????????????????????????
Das Komm du lädt ein zu einem Konzert am ...
UID:f4b0c95b6862ee85d4fff548cb5116af@kulturhamburg
END:VEVENT
END:VCALENDAR