BEGIN:VCALENDAR
VERSION:2.0
PRODID:-//STADTKULTUR HAMBURG//kultur-hamburg.de///DE
CALSCALE:GREGORIAN
BEGIN:VEVENT
X-WR-TIMEZONE:Europe/Berlin
DTSTART:20190818T110000
DTEND:20190818T130000
LOCATION:Kulturcafé Komm du \, Buxtehuder Str. 13 \, 21073 Hamburg
DTSTAMP:20260419T214912
SUMMARY:Hang & Harfe | Musikalische Traumreisen aus Hamburg
URL;VALUE=URI:https://www.kultur-hamburg.de/veranstaltungen/hang-&-harfe--musikalische-traumreisen-aus-hamburg-453733
DESCRIPTION:Pressefoto: © by Hang und Harfe
?????????????????????????????
Das Komm du lädt ein zu einem Brunch-K...
UID:ba68149b41245235fffd0d8fc412bd25@kulturhamburg
END:VEVENT
END:VCALENDAR