BEGIN:VCALENDAR
VERSION:2.0
PRODID:-//STADTKULTUR HAMBURG//kultur-hamburg.de///DE
CALSCALE:GREGORIAN
BEGIN:VEVENT
X-WR-TIMEZONE:Europe/Berlin
DTSTART:20190821T200000
DTEND:20190821T220000
LOCATION:Kulturcafé Komm du \, Buxtehuder Str. 13 \, 21073 Hamburg
DTSTAMP:20260420T023220
SUMMARY:Mr. Händel im Pub | Baroque meets Folk
URL;VALUE=URI:https://www.kultur-hamburg.de/veranstaltungen/mr.-haendel-im-pub--baroque-meets-folk-453734
DESCRIPTION:Pressefoto: © by Markus Catenhusen
?????????????????????????????
Das Komm du lädt ein zu einem Konze...
UID:995f4a4e262d1b02ba84d3680d77ad49@kulturhamburg
END:VEVENT
END:VCALENDAR