BEGIN:VCALENDAR
VERSION:2.0
PRODID:-//STADTKULTUR HAMBURG//kultur-hamburg.de///DE
CALSCALE:GREGORIAN
BEGIN:VEVENT
X-WR-TIMEZONE:Europe/Berlin
DTSTART:20190823T200000
DTEND:20190823T220000
LOCATION:Kulturcafé Komm du \, Buxtehuder Str. 13 \, 21073 Hamburg
DTSTAMP:20260420T054947
SUMMARY:Stan Silver | Folk'n'Fun'n'Rock'n'Roll
URL;VALUE=URI:https://www.kultur-hamburg.de/veranstaltungen/stan-silver--folk'n'fun'n'rock'n'roll-453735
DESCRIPTION:Pressefoto: © by Oliver Sparing
?????????????????????????????
Das Komm du lädt ein zu einem Konzert ...
UID:367f92aa27ee1d408260ce1be47c55ea@kulturhamburg
END:VEVENT
END:VCALENDAR