BEGIN:VCALENDAR
VERSION:2.0
PRODID:-//STADTKULTUR HAMBURG//kultur-hamburg.de///DE
CALSCALE:GREGORIAN
BEGIN:VEVENT
X-WR-TIMEZONE:Europe/Berlin
DTSTART:20190824T200000
DTEND:20190824T220000
LOCATION:Kulturcafé Komm du \, Buxtehuder Str. 13 \, 21073 Hamburg
DTSTAMP:20260420T073933
SUMMARY:Emsehn - "Horizons" | Acoustic Grooves aus Paris
URL;VALUE=URI:https://www.kultur-hamburg.de/veranstaltungen/emsehn-horizons--acoustic-grooves-aus-paris-453736
DESCRIPTION:Pressefoto: © by Louis Bert
?????????????????????????????
Das Komm du lädt ein zu einem Konzert am S...
UID:7e3c99091f18f6313949119711d95073@kulturhamburg
END:VEVENT
END:VCALENDAR