BEGIN:VCALENDAR
VERSION:2.0
PRODID:-//STADTKULTUR HAMBURG//kultur-hamburg.de///DE
CALSCALE:GREGORIAN
BEGIN:VEVENT
X-WR-TIMEZONE:Europe/Berlin
DTSTART:20190828T200000
DTEND:20190828T220000
LOCATION:Kulturcafé Komm du \, Buxtehuder Str. 13 \, 21073 Hamburg
DTSTAMP:20260422T141434
SUMMARY:duo DUVA | nordic urban folk
URL;VALUE=URI:https://www.kultur-hamburg.de/veranstaltungen/duo-duva--nordic-urban-folk-453737
DESCRIPTION:Pressefoto: © by Lorenz Oberdoerster
?????????????????????????????
Das Komm du lädt ein zu einem Kon...
UID:02a758d7a1fb67db9116d5c633039283@kulturhamburg
END:VEVENT
END:VCALENDAR