BEGIN:VCALENDAR
VERSION:2.0
PRODID:-//STADTKULTUR HAMBURG//kultur-hamburg.de///DE
CALSCALE:GREGORIAN
BEGIN:VEVENT
X-WR-TIMEZONE:Europe/Berlin
DTSTART:20190830T200000
DTEND:20190830T220000
LOCATION:Kulturcafé Komm du \, Buxtehuder Str. 13 \, 21073 Hamburg
DTSTAMP:20260422T173211
SUMMARY:QWAIN | Saxophon-Quintett präsentiert Pop, Swing und Jazz
URL;VALUE=URI:https://www.kultur-hamburg.de/veranstaltungen/qwain--saxophon-quintett-praesentiert-pop-swing-und-jazz-453738
DESCRIPTION:Pressefoto: © by QWAIN
?????????????????????????????
Das Komm du lädt ein zu einem Konzert am Freita...
UID:54fa609450eed81763c9d1db8d336951@kulturhamburg
END:VEVENT
END:VCALENDAR