BEGIN:VCALENDAR
VERSION:2.0
PRODID:-//STADTKULTUR HAMBURG//kultur-hamburg.de///DE
CALSCALE:GREGORIAN
BEGIN:VEVENT
X-WR-TIMEZONE:Europe/Berlin
DTSTART:20190831T200000
DTEND:20190831T220000
LOCATION:Kulturcafé Komm du \, Buxtehuder Str. 13 \, 21073 Hamburg
DTSTAMP:20260422T190806
SUMMARY:Toneart | Jazz und mehr ...
URL;VALUE=URI:https://www.kultur-hamburg.de/veranstaltungen/toneart--jazz-und-mehr-...-453739
DESCRIPTION:Pressefoto: © by Toneart
?????????????????????????????
Das Komm du lädt ein zu einem Konzert am Sams...
UID:41ca4eff4c744392ef49f915c33e9880@kulturhamburg
END:VEVENT
END:VCALENDAR