BEGIN:VCALENDAR
VERSION:2.0
PRODID:-//STADTKULTUR HAMBURG//kultur-hamburg.de///DE
CALSCALE:GREGORIAN
BEGIN:VEVENT
X-WR-TIMEZONE:Europe/Berlin
DTSTART:20190907T140000
DTEND:20190907T180000
LOCATION:Marktplatz Käkenhof \, Käkenhof \, 22419 Hamburg
DTSTAMP:20260423T070247
SUMMARY:Buffet der Kulturen
URL;VALUE=URI:https://www.kultur-hamburg.de/veranstaltungen/buffet-der-kulturen-453882
DESCRIPTION:
UID:f10f9938c36874207fa5a2cd75d44553@kulturhamburg
END:VEVENT
END:VCALENDAR