BEGIN:VCALENDAR
VERSION:2.0
PRODID:-//STADTKULTUR HAMBURG//kultur-hamburg.de///DE
CALSCALE:GREGORIAN
BEGIN:VEVENT
X-WR-TIMEZONE:Europe/Berlin
DTSTART:20190925T183000
DTEND:20190925T203000
LOCATION:ella Kulturhaus Langenhorn \, Käkenflur 30 (über Iserlohner Stieg) \, 22419 Hamburg
DTSTAMP:20260424T120137
SUMMARY:Die grüne ella: Korrekte Klamotten
URL;VALUE=URI:https://www.kultur-hamburg.de/veranstaltungen/die-gruene-ella-korrekte-klamotten-453883
DESCRIPTION:
UID:98452cf0bbb42329570392e3982ad026@kulturhamburg
END:VEVENT
END:VCALENDAR