BEGIN:VCALENDAR
VERSION:2.0
PRODID:-//STADTKULTUR HAMBURG//kultur-hamburg.de///DE
CALSCALE:GREGORIAN
BEGIN:VEVENT
X-WR-TIMEZONE:Europe/Berlin
DTSTART:20190821T180000
DTEND:20190821T200000
LOCATION:Kulturladen St.Georg e.V. \, Alexanderstr.16 \, 20099 Hamburg
DTSTAMP:20260420T023235
SUMMARY:Nachhaltiges St.Georg
URL;VALUE=URI:https://www.kultur-hamburg.de/veranstaltungen/nachhaltiges-st.georg-453888
DESCRIPTION:Lokal handeln, Global denken
UID:1613d668c2f46a26f921d2fe440999f2@kulturhamburg
END:VEVENT
END:VCALENDAR