BEGIN:VCALENDAR
VERSION:2.0
PRODID:-//STADTKULTUR HAMBURG//kultur-hamburg.de///DE
CALSCALE:GREGORIAN
BEGIN:VEVENT
X-WR-TIMEZONE:Europe/Berlin
DTSTART:20190831T190000
DTEND:20190901T010000
LOCATION:Prinzenbar \, Kastanienallee 20 \, 20359 Hamburg
DTSTAMP:20260422T190706
SUMMARY:GabenSOUND
URL;VALUE=URI:https://www.kultur-hamburg.de/veranstaltungen/gabensound-454536
DESCRIPTION:Das Charity-Event “Hamburger GabenSOUND” trommelt am 31.8. verschiedene Künstler wie Das Bo, DJ Plazebo und mehr in der Prinzenbar zusammen, um die Erlöse des musikalischen Abends aus Eintritt und Tombola für den Hamburger Gabenzaun e.V. zu spenden. 
UID:f68c43109d0312e59760ac8174235cc3@kulturhamburg
END:VEVENT
END:VCALENDAR