BEGIN:VCALENDAR
VERSION:2.0
PRODID:-//STADTKULTUR HAMBURG//kultur-hamburg.de///DE
CALSCALE:GREGORIAN
BEGIN:VEVENT
X-WR-TIMEZONE:Europe/Berlin
DTSTART:20190921T203000
DTEND:20190922T050000
LOCATION:Goldbekhaus \, Moorfuhrtweg 9 \, 22301 Hamburg
DTSTAMP:20260424T052015
SUMMARY:Winterhuder Tanznacht | Die Ü-40 Tanzparty
URL;VALUE=URI:https://www.kultur-hamburg.de/veranstaltungen/winterhuder-tanznacht--die-ue-40-tanzparty-454615
DESCRIPTION:Die Kultparty! Neue Musik der 70er, 80er, 90er, DanceClassics und Charts!
UID:d6bad42ac12a70f8ef9d5734f348bc80@kulturhamburg
END:VEVENT
END:VCALENDAR