BEGIN:VCALENDAR
VERSION:2.0
PRODID:-//STADTKULTUR HAMBURG//kultur-hamburg.de///DE
CALSCALE:GREGORIAN
BEGIN:VEVENT
X-WR-TIMEZONE:Europe/Berlin
DTSTART:20191221T203000
DTEND:20191222T050000
LOCATION:Goldbekhaus \, Moorfuhrtweg 9 \, 22301 Hamburg
DTSTAMP:20260422T072734
SUMMARY:Winterhuder Tanznacht | Die Ü-40 Tanzparty
URL;VALUE=URI:https://www.kultur-hamburg.de/veranstaltungen/winterhuder-tanznacht--die-ue-40-tanzparty-454618
DESCRIPTION:Die Kultparty! Neue Musik der 70er, 80er, 90er, DanceClassics und Charts!
UID:e3ac267351fbb37bcde27f240399f72a@kulturhamburg
END:VEVENT
END:VCALENDAR