BEGIN:VCALENDAR
VERSION:2.0
PRODID:-//STADTKULTUR HAMBURG//kultur-hamburg.de///DE
CALSCALE:GREGORIAN
BEGIN:VEVENT
X-WR-TIMEZONE:Europe/Berlin
DTSTART:20190816T180000
DTEND:20190817T160000
LOCATION:Goldbekhaus \, Moorfuhrtweg 9 \, 22301 Hamburg
DTSTAMP:20260419T182057
SUMMARY:Bunt und Groß
URL;VALUE=URI:https://www.kultur-hamburg.de/veranstaltungen/bunt-und-gross-454634
DESCRIPTION:Die Wanderbilder des Tagewerk Jarrestadt machen Halt im Goldbekhaus.
UID:9e0859f1bc7f87ab9b3f5f329cd4f1d2@kulturhamburg
END:VEVENT
END:VCALENDAR