BEGIN:VCALENDAR
VERSION:2.0
PRODID:-//STADTKULTUR HAMBURG//kultur-hamburg.de///DE
CALSCALE:GREGORIAN
BEGIN:VEVENT
X-WR-TIMEZONE:Europe/Berlin
DTSTART:20190824T200000
DTEND:20190824T220000
LOCATION:Goldbekhaus \, Moorfuhrtweg 9 \, 22301 Hamburg
DTSTAMP:20260420T073800
SUMMARY:Harburger Theater Sündikat: Zwei Brüder
URL;VALUE=URI:https://www.kultur-hamburg.de/veranstaltungen/harburger-theater-suendikat-zwei-brueder-454635
DESCRIPTION:Ein Kriminalstück von Stephan Greve in vier Akten.
UID:071ee14c2d5c9dd7b5bda0829b24d4e8@kulturhamburg
END:VEVENT
END:VCALENDAR