BEGIN:VCALENDAR
VERSION:2.0
PRODID:-//STADTKULTUR HAMBURG//kultur-hamburg.de///DE
CALSCALE:GREGORIAN
BEGIN:VEVENT
X-WR-TIMEZONE:Europe/Berlin
DTSTART:20190825T170000
DTEND:20190825T190000
LOCATION:Moorburger Art e.V. \, Moorburger Elbdeich 263 \, 21079 Hamburg
DTSTAMP:20260420T093410
SUMMARY:Kabarettist Joachim Zawischa bei Sonntags um Fünf
URL;VALUE=URI:https://www.kultur-hamburg.de/veranstaltungen/kabarettist-joachim-zawischa-bei-sonntags-um-fuenf-454704
DESCRIPTION:Der Entertainer Harald Schmidt überreichte ihm den zweiten Preis des von Hanns Dieter Hüsch initiier...
UID:25cf4ce32a20b32d3d22c56e6fc906f1@kulturhamburg
END:VEVENT
END:VCALENDAR