BEGIN:VCALENDAR
VERSION:2.0
PRODID:-//STADTKULTUR HAMBURG//kultur-hamburg.de///DE
CALSCALE:GREGORIAN
BEGIN:VEVENT
X-WR-TIMEZONE:Europe/Berlin
DTSTART:20190920T200000
DTEND:20190920T220000
LOCATION:LOLA Kulturzentrum \, Lohbrügger Landstraße 8 \, 21031 Hamburg
DTSTAMP:20260424T035915
SUMMARY:Hello World! Bergedorfer Global Session
URL;VALUE=URI:https://www.kultur-hamburg.de/veranstaltungen/hello-world!-bergedorfer-global-session-454729
DESCRIPTION:
UID:4324e1d07ff4de23bc82d7f921d48b63@kulturhamburg
END:VEVENT
END:VCALENDAR