BEGIN:VCALENDAR
VERSION:2.0
PRODID:-//STADTKULTUR HAMBURG//kultur-hamburg.de///DE
CALSCALE:GREGORIAN
BEGIN:VEVENT
X-WR-TIMEZONE:Europe/Berlin
DTSTART:20191220T200000
DTEND:20191220T220000
LOCATION:LOLA Kulturzentrum \, Lohbrügger Landstraße 8 \, 21031 Hamburg
DTSTAMP:20260422T083217
SUMMARY:Hello World! Bergedorfer Global Session
URL;VALUE=URI:https://www.kultur-hamburg.de/veranstaltungen/hello-world!-bergedorfer-global-session-454731
DESCRIPTION:
UID:aa8b09ea75f7accb5bfb08a7d35ff7ca@kulturhamburg
END:VEVENT
END:VCALENDAR