BEGIN:VCALENDAR
VERSION:2.0
PRODID:-//STADTKULTUR HAMBURG//kultur-hamburg.de///DE
CALSCALE:GREGORIAN
BEGIN:VEVENT
X-WR-TIMEZONE:Europe/Berlin
DTSTART:20190907T200000
DTEND:20190907T220000
LOCATION:B*Treff Altona-Nord \, Gefionstr.3 \, 22769 Hamburg
DTSTAMP:20260423T070116
SUMMARY:Singing Sues präsentieren: "Our favourite songs 2019"
URL;VALUE=URI:https://www.kultur-hamburg.de/veranstaltungen/singing-sues-praesentieren-our-favourite-songs-2019-455000
DESCRIPTION:Musik schlägt Brücken – ob zwischen Nachbarn oder Kulturen. Beides stellen die Singing Sues lebendig unter Beweis:
UID:c2dfa6a4e8bbd12bb33a50279e1a9561@kulturhamburg
END:VEVENT
END:VCALENDAR