BEGIN:VCALENDAR
VERSION:2.0
PRODID:-//STADTKULTUR HAMBURG//kultur-hamburg.de///DE
CALSCALE:GREGORIAN
BEGIN:VEVENT
X-WR-TIMEZONE:Europe/Berlin
DTSTART:20190913T200000
DTEND:20190913T220000
LOCATION:B*Treff Altona-Nord \, Gefionstr.3 \, 22769 Hamburg
DTSTAMP:20260423T165733
SUMMARY:JAZZKULAP
URL;VALUE=URI:https://www.kultur-hamburg.de/veranstaltungen/jazzkulap-455002
DESCRIPTION:A tribute to Sammy Nestico!
UID:04e4669e65918fd87ae725ee4669472d@kulturhamburg
END:VEVENT
END:VCALENDAR