BEGIN:VCALENDAR
VERSION:2.0
PRODID:-//STADTKULTUR HAMBURG//kultur-hamburg.de///DE
CALSCALE:GREGORIAN
BEGIN:VEVENT
X-WR-TIMEZONE:Europe/Berlin
DTSTART:20190914T160000
DTEND:20190914T180000
LOCATION:B*Treff Altona-Nord \, Gefionstr.3 \, 22769 Hamburg
DTSTAMP:20260423T183003
SUMMARY:ATAYA: Das wird schon!
URL;VALUE=URI:https://www.kultur-hamburg.de/veranstaltungen/ataya-das-wird-schon!-455003
DESCRIPTION:Bereits zum 10. Mal auf der BiB: Katrin Pfeiffer und ihre Schülerinnen präsentieren Choreographien zu Musik aus Senegal, Guinea und Mali.
UID:d98113e5a3c93019f49bfc9e074d7b88@kulturhamburg
END:VEVENT
END:VCALENDAR