BEGIN:VCALENDAR
VERSION:2.0
PRODID:-//STADTKULTUR HAMBURG//kultur-hamburg.de///DE
CALSCALE:GREGORIAN
BEGIN:VEVENT
X-WR-TIMEZONE:Europe/Berlin
DTSTART:20190920T200000
DTEND:20190920T220000
LOCATION:B*Treff Altona-Nord \, Gefionstr.3 \, 22769 Hamburg
DTSTAMP:20260424T040029
SUMMARY:Hut ab, Hamburg!
URL;VALUE=URI:https://www.kultur-hamburg.de/veranstaltungen/hut-ab-hamburg!-455007
DESCRIPTION:"Ein Abend. Zwei Stunden. Vier Künstler." Das ist das Motto der KleinKunstShow in Altona!
UID:23b0ce2ec068f586501ac777cf385cc7@kulturhamburg
END:VEVENT
END:VCALENDAR