BEGIN:VCALENDAR
VERSION:2.0
PRODID:-//STADTKULTUR HAMBURG//kultur-hamburg.de///DE
CALSCALE:GREGORIAN
BEGIN:VEVENT
X-WR-TIMEZONE:Europe/Berlin
DTSTART:20190922T143000
DTEND:20190922T163000
LOCATION:B*Treff Altona-Nord \, Gefionstr.3 \, 22769 Hamburg
DTSTAMP:20260424T065455
SUMMARY:FAMILIENMUSIK: Hexe Knickebein Lieblingslieder
URL;VALUE=URI:https://www.kultur-hamburg.de/veranstaltungen/familienmusik-hexe-knickebein-lieblingslieder-455008
DESCRIPTION:Neu! Musik für Familien
UID:7b50c897d1b96c947424675d6d4a0cb6@kulturhamburg
END:VEVENT
END:VCALENDAR