BEGIN:VCALENDAR
VERSION:2.0
PRODID:-//STADTKULTUR HAMBURG//kultur-hamburg.de///DE
CALSCALE:GREGORIAN
BEGIN:VEVENT
X-WR-TIMEZONE:Europe/Berlin
DTSTART:20190825T120000
DTEND:20190825T140000
LOCATION:Nachbarschaftstreff \, Eißendorfer Str. 124 \, 21073 Hamburg
DTSTAMP:20260420T093410
SUMMARY:Kunstleihe goes Buxtehude !!!
URL;VALUE=URI:https://www.kultur-hamburg.de/veranstaltungen/kunstleihe-goes-buxtehude-!!!-455048
DESCRIPTION:Heute bleibt die Kunstleihe HH-Harburg in der Eißendorfer Straße 124 geschlossen.

Und das aus gutem...
UID:db0926926bfd3cc9201d6b614325a883@kulturhamburg
END:VEVENT
END:VCALENDAR