BEGIN:VCALENDAR
VERSION:2.0
PRODID:-//STADTKULTUR HAMBURG//kultur-hamburg.de///DE
CALSCALE:GREGORIAN
BEGIN:VEVENT
X-WR-TIMEZONE:Europe/Berlin
DTSTART:20190914T160000
DTEND:20190914T173000
LOCATION:Hamburg \,  \,  
DTSTAMP:20260423T183003
SUMMARY:„Die Koscher-Maschine“
URL;VALUE=URI:https://www.kultur-hamburg.de/veranstaltungen/die-koscher-maschine-455636
DESCRIPTION:UNANTASTBAR Im Kulturschloss Wandsbek 
eine Puppen-Komödie
UID:de9f6e1bd042773f87407a6a429cbdc6@kulturhamburg
END:VEVENT
END:VCALENDAR