BEGIN:VCALENDAR
VERSION:2.0
PRODID:-//STADTKULTUR HAMBURG//kultur-hamburg.de///DE
CALSCALE:GREGORIAN
BEGIN:VEVENT
X-WR-TIMEZONE:Europe/Berlin
DTSTART:20190911T203000
DTEND:20190911T223000
LOCATION:MOTTE VERANSTALTUNGEN \, Rothestraße 48 \, 22765 Hamburg
DTSTAMP:20260423T133736
SUMMARY:Top Notch Comedy Club (English Stand Up Comedy)
URL;VALUE=URI:https://www.kultur-hamburg.de/veranstaltungen/top-notch-comedy-club-english-stand-up-comedy-455957
DESCRIPTION:Top Notch Comedy Club (English Comedy Show) 
Show Start: 20:30 Tickets: 17€ / 15 € (Students) 
Ticket Reservation: topnotchcomedyclub@hotmail.de
UID:2f030c0bdb35a882757a2d6684618d82@kulturhamburg
END:VEVENT
END:VCALENDAR