BEGIN:VCALENDAR
VERSION:2.0
PRODID:-//STADTKULTUR HAMBURG//kultur-hamburg.de///DE
CALSCALE:GREGORIAN
BEGIN:VEVENT
X-WR-TIMEZONE:Europe/Berlin
DTSTART:20190823T190000
DTEND:20190823T220000
LOCATION:Stadtteilhaus Lurup \, Luruper Hauptstraße 155 \, 22547 Hamburg
DTSTAMP:20260420T055108
SUMMARY:Zirkusfestival Hamburg LurUPina GALA
URL;VALUE=URI:https://www.kultur-hamburg.de/veranstaltungen/zirkusfestival-hamburg-lurupina-gala-455961
DESCRIPTION:GALA-Programm Internationaler Zirkuskompagnien
UID:8132a8614809abd2bb8e1c89d8bf4227@kulturhamburg
END:VEVENT
END:VCALENDAR