BEGIN:VCALENDAR
VERSION:2.0
PRODID:-//STADTKULTUR HAMBURG//kultur-hamburg.de///DE
CALSCALE:GREGORIAN
BEGIN:VEVENT
X-WR-TIMEZONE:Europe/Berlin
DTSTART:20190824T140000
DTEND:20190824T220000
LOCATION:Stadtteilhaus Lurup \, Luruper Hauptstraße 155 \, 22547 Hamburg
DTSTAMP:20260420T073933
SUMMARY:Zirkusfestival Hamburg LurUPina
URL;VALUE=URI:https://www.kultur-hamburg.de/veranstaltungen/zirkusfestival-hamburg-lurupina-455964
DESCRIPTION:Sechs Internationale Zirkuscompagnien, Straßenmusiker und mehr umsonst, draußen und im Zirkuszelt
UID:af7d412bb7c36d6e3a87809ae6936a63@kulturhamburg
END:VEVENT
END:VCALENDAR