BEGIN:VCALENDAR
VERSION:2.0
PRODID:-//STADTKULTUR HAMBURG//kultur-hamburg.de///DE
CALSCALE:GREGORIAN
BEGIN:VEVENT
X-WR-TIMEZONE:Europe/Berlin
DTSTART:20190825T100000
DTEND:20190825T120000
LOCATION:Stadtteilhaus Lurup \, Luruper Hauptstraße 155 \, 22547 Hamburg
DTSTAMP:20260420T092513
SUMMARY:Zirkusfestival Hamburg LurUPina Workshops
URL;VALUE=URI:https://www.kultur-hamburg.de/veranstaltungen/zirkusfestival-hamburg-lurupina-workshops-455965
DESCRIPTION:Trapezworkshop mit In_tensegrity
Akrobatikworkshop mit Nafsi Acrobats
UID:2237e1d9442015fb5db2b5f45b9fcc2d@kulturhamburg
END:VEVENT
END:VCALENDAR