BEGIN:VCALENDAR
VERSION:2.0
PRODID:-//STADTKULTUR HAMBURG//kultur-hamburg.de///DE
CALSCALE:GREGORIAN
BEGIN:VEVENT
X-WR-TIMEZONE:Europe/Berlin
DTSTART:20190907T160000
DTEND:20190907T180000
LOCATION:FUNDUS THEATER \, Sievekingdamm 3 - Platz der Kinderrechte \, 20535 Hamburg
DTSTAMP:20260423T070408
SUMMARY:Theaternacht Hamburg: Die Kunst des Messens
URL;VALUE=URI:https://www.kultur-hamburg.de/veranstaltungen/theaternacht-hamburg-die-kunst-des-messens-455968
DESCRIPTION:Ein performatives Setup und ein spielerischer Ablauf
UID:8567b7b7cee695325a169a67b3715ade@kulturhamburg
END:VEVENT
END:VCALENDAR