BEGIN:VCALENDAR
VERSION:2.0
PRODID:-//STADTKULTUR HAMBURG//kultur-hamburg.de///DE
CALSCALE:GREGORIAN
BEGIN:VEVENT
X-WR-TIMEZONE:Europe/Berlin
DTSTART:20190825T140000
DTEND:20190825T150000
LOCATION:Stadtteilhaus Lurup \, Luruper Hauptstraße 155 \, 22547 Hamburg
DTSTAMP:20260420T092955
SUMMARY:Zirkusfestival Hamburg LurUPina Nafsi Acrobats
URL;VALUE=URI:https://www.kultur-hamburg.de/veranstaltungen/zirkusfestival-hamburg-lurupina-nafsi-acrobats-455969
DESCRIPTION:"Africa Kids" engergiegeladenes Spectakel mit Theater, Akrobatik und mehr
UID:13253e116c1df1c38e9f0bc422040fed@kulturhamburg
END:VEVENT
END:VCALENDAR