BEGIN:VCALENDAR
VERSION:2.0
PRODID:-//STADTKULTUR HAMBURG//kultur-hamburg.de///DE
CALSCALE:GREGORIAN
BEGIN:VEVENT
X-WR-TIMEZONE:Europe/Berlin
DTSTART:20190826T150000
DTEND:20190826T160000
LOCATION:Stadtteilhaus Lurup \, Luruper Hauptstraße 155 \, 22547 Hamburg
DTSTAMP:20260422T111402
SUMMARY:Zirkusfestival Hamburg LurUPina Compagnie Wurst
URL;VALUE=URI:https://www.kultur-hamburg.de/veranstaltungen/zirkusfestival-hamburg-lurupina-compagnie-wurst-455972
DESCRIPTION:"Bien sur, pas sur" The Wurst Show ever!
UID:803229e17453162754945950d458e82b@kulturhamburg
END:VEVENT
END:VCALENDAR