BEGIN:VCALENDAR
VERSION:2.0
PRODID:-//STADTKULTUR HAMBURG//kultur-hamburg.de///DE
CALSCALE:GREGORIAN
BEGIN:VEVENT
X-WR-TIMEZONE:Europe/Berlin
DTSTART:20190908T150000
DTEND:20190908T180000
LOCATION:FUNDUS THEATER \, Sievekingdamm 3 - Platz der Kinderrechte \, 20535 Hamburg
DTSTAMP:20260423T090628
SUMMARY:PREMIERE: AUF ZUCKER - WEIL WOCHENENDE
URL;VALUE=URI:https://www.kultur-hamburg.de/veranstaltungen/premiere-auf-zucker-weil-wochenende-455974
DESCRIPTION:Vorstellung mit Rahmenprogramm für Kinder ab 4 bis 12 Jahren
UID:f929710fb6c719a33d9a88069b0454a3@kulturhamburg
END:VEVENT
END:VCALENDAR