BEGIN:VCALENDAR
VERSION:2.0
PRODID:-//STADTKULTUR HAMBURG//kultur-hamburg.de///DE
CALSCALE:GREGORIAN
BEGIN:VEVENT
X-WR-TIMEZONE:Europe/Berlin
DTSTART:20190915T150000
DTEND:20190915T180000
LOCATION:FUNDUS THEATER \, Sievekingdamm 3 - Platz der Kinderrechte \, 20535 Hamburg
DTSTAMP:20260423T202116
SUMMARY:AUF ZUCKER - WEIL WOCHENENDE
URL;VALUE=URI:https://www.kultur-hamburg.de/veranstaltungen/auf-zucker-weil-wochenende-455976
DESCRIPTION:Vorstellung mit Rahmenprogramm für Kinder ab 4 bis 12 Jahren
UID:27d98c78fcd4f9791f9574b8c598310b@kulturhamburg
END:VEVENT
END:VCALENDAR