BEGIN:VCALENDAR
VERSION:2.0
PRODID:-//STADTKULTUR HAMBURG//kultur-hamburg.de///DE
CALSCALE:GREGORIAN
BEGIN:VEVENT
X-WR-TIMEZONE:Europe/Berlin
DTSTART:20190922T150000
DTEND:20190922T180000
LOCATION:FUNDUS THEATER \, Sievekingdamm 3 - Platz der Kinderrechte \, 20535 Hamburg
DTSTAMP:20260424T065323
SUMMARY:AUF ZUCKER - WEIL WOCHENENDE
URL;VALUE=URI:https://www.kultur-hamburg.de/veranstaltungen/auf-zucker-weil-wochenende-455994
DESCRIPTION:Vorstellung mit Rahmenprogramm für Kinder ab 4 bis 12 Jahren
UID:f204d5fd7c89bd994529df13f00a693b@kulturhamburg
END:VEVENT
END:VCALENDAR