BEGIN:VCALENDAR
VERSION:2.0
PRODID:-//STADTKULTUR HAMBURG//kultur-hamburg.de///DE
CALSCALE:GREGORIAN
BEGIN:VEVENT
X-WR-TIMEZONE:Europe/Berlin
DTSTART:20190910T100000
DTEND:20190910T110000
LOCATION:FUNDUS THEATER \, Sievekingdamm 3 - Platz der Kinderrechte \, 20535 Hamburg
DTSTAMP:20260423T120816
SUMMARY:Vorsicht! Kasper!
URL;VALUE=URI:https://www.kultur-hamburg.de/veranstaltungen/vorsicht!-kasper!-455997
DESCRIPTION:FUNDUS THEATER für Kinder ab 4 Jahre
UID:1fe759d7176c122c95788045a156c66d@kulturhamburg
END:VEVENT
END:VCALENDAR