BEGIN:VCALENDAR
VERSION:2.0
PRODID:-//STADTKULTUR HAMBURG//kultur-hamburg.de///DE
CALSCALE:GREGORIAN
BEGIN:VEVENT
X-WR-TIMEZONE:Europe/Berlin
DTSTART:20190911T100000
DTEND:20190911T110000
LOCATION:FUNDUS THEATER \, Sievekingdamm 3 - Platz der Kinderrechte \, 20535 Hamburg
DTSTAMP:20260423T133736
SUMMARY:Vorsicht! Kasper!
URL;VALUE=URI:https://www.kultur-hamburg.de/veranstaltungen/vorsicht!-kasper!-455998
DESCRIPTION:FUNDUS THEATER für Kinder ab 4 Jahre
UID:c2b2dc923b187a0bd812c64d4f314c6d@kulturhamburg
END:VEVENT
END:VCALENDAR