BEGIN:VCALENDAR
VERSION:2.0
PRODID:-//STADTKULTUR HAMBURG//kultur-hamburg.de///DE
CALSCALE:GREGORIAN
BEGIN:VEVENT
X-WR-TIMEZONE:Europe/Berlin
DTSTART:20190912T100000
DTEND:20190912T110000
LOCATION:FUNDUS THEATER \, Sievekingdamm 3 - Platz der Kinderrechte \, 20535 Hamburg
DTSTAMP:20260423T152259
SUMMARY:Vorsicht! Kasper!
URL;VALUE=URI:https://www.kultur-hamburg.de/veranstaltungen/vorsicht!-kasper!-455999
DESCRIPTION:FUNDUS THEATER für Kinder ab 4 Jahre
UID:4991eddacfe504992cb14db266eddcd2@kulturhamburg
END:VEVENT
END:VCALENDAR