BEGIN:VCALENDAR
VERSION:2.0
PRODID:-//STADTKULTUR HAMBURG//kultur-hamburg.de///DE
CALSCALE:GREGORIAN
BEGIN:VEVENT
X-WR-TIMEZONE:Europe/Berlin
DTSTART:20190913T100000
DTEND:20190913T110000
LOCATION:FUNDUS THEATER \, Sievekingdamm 3 - Platz der Kinderrechte \, 20535 Hamburg
DTSTAMP:20260423T170230
SUMMARY:Vorsicht! Kasper!
URL;VALUE=URI:https://www.kultur-hamburg.de/veranstaltungen/vorsicht!-kasper!-456000
DESCRIPTION:FUNDUS THEATER für Kinder ab 4 Jahre
UID:d5bf3ddf001db51325202c92b2bb54ff@kulturhamburg
END:VEVENT
END:VCALENDAR