BEGIN:VCALENDAR
VERSION:2.0
PRODID:-//STADTKULTUR HAMBURG//kultur-hamburg.de///DE
CALSCALE:GREGORIAN
BEGIN:VEVENT
X-WR-TIMEZONE:Europe/Berlin
DTSTART:20190824T200000
DTEND:20190824T220000
LOCATION:Theaterdeck in der Zinnschmelze \, Maurienstr. 19 \, 22305 Hamburg
DTSTAMP:20260420T073949
SUMMARY:Das Experiment
URL;VALUE=URI:https://www.kultur-hamburg.de/veranstaltungen/das-experiment-456073
DESCRIPTION:Freiwillige treffen als Wärter und Gefangene aufeinander. Schon bald gerät das Experiment außer Kontrolle.
UID:560467284f2059af3d1c0580f9b92259@kulturhamburg
END:VEVENT
END:VCALENDAR