BEGIN:VCALENDAR
VERSION:2.0
PRODID:-//STADTKULTUR HAMBURG//kultur-hamburg.de///DE
CALSCALE:GREGORIAN
BEGIN:VEVENT
X-WR-TIMEZONE:Europe/Berlin
DTSTART:20190825T190000
DTEND:20190825T210000
LOCATION:Theaterdeck in der Zinnschmelze \, Maurienstr. 19 \, 22305 Hamburg
DTSTAMP:20260420T090922
SUMMARY:Das Experiment
URL;VALUE=URI:https://www.kultur-hamburg.de/veranstaltungen/das-experiment-456074
DESCRIPTION:Freiwillige treffen als Wärter und Gefangene aufeinander. Schon bald gerät das Experiment außer Kontrolle.
UID:46e7ef36c3249dafdaeab4b5069c3618@kulturhamburg
END:VEVENT
END:VCALENDAR